BEGIN:VCALENDAR
VERSION:2.0
PRODID:-//Les Francophiles de Tickhill - ECPv5.16.4//NONSGML v1.0//EN
CALSCALE:GREGORIAN
METHOD:PUBLISH
X-WR-CALNAME:Les Francophiles de Tickhill
X-ORIGINAL-URL:https://lesfrancophilesdetickhill.co.uk
X-WR-CALDESC:Events for Les Francophiles de Tickhill
BEGIN:VTIMEZONE
TZID:Europe/London
BEGIN:DAYLIGHT
TZOFFSETFROM:+0000
TZOFFSETTO:+0100
TZNAME:BST
DTSTART:20130331T010000
END:DAYLIGHT
BEGIN:STANDARD
TZOFFSETFROM:+0100
TZOFFSETTO:+0000
TZNAME:GMT
DTSTART:20131027T010000
END:STANDARD
END:VTIMEZONE
BEGIN:VEVENT
DTSTART;TZID=Europe/London:20130605T073000
DTEND;TZID=Europe/London:20130605T213000
DTSTAMP:20260421T012342
CREATED:20130121T202127Z
LAST-MODIFIED:20130414T170729Z
UID:84-1370417400-1370467800@lesfrancophilesdetickhill.co.uk
SUMMARY:Boules
DESCRIPTION:At the home of one of our members
URL:https://lesfrancophilesdetickhill.co.uk/event/boules/
LOCATION:TBA
END:VEVENT
END:VCALENDAR