BEGIN:VCALENDAR
VERSION:2.0
PRODID:-//Les Francophiles de Tickhill - ECPv5.16.4//NONSGML v1.0//EN
CALSCALE:GREGORIAN
METHOD:PUBLISH
X-WR-CALNAME:Les Francophiles de Tickhill
X-ORIGINAL-URL:https://lesfrancophilesdetickhill.co.uk
X-WR-CALDESC:Events for Les Francophiles de Tickhill
BEGIN:VTIMEZONE
TZID:Europe/London
BEGIN:DAYLIGHT
TZOFFSETFROM:+0000
TZOFFSETTO:+0100
TZNAME:BST
DTSTART:20140330T010000
END:DAYLIGHT
BEGIN:STANDARD
TZOFFSETFROM:+0100
TZOFFSETTO:+0000
TZNAME:GMT
DTSTART:20141026T010000
END:STANDARD
END:VTIMEZONE
BEGIN:VEVENT
DTSTART;TZID=Europe/London:20140402T193000
DTEND;TZID=Europe/London:20140402T213000
DTSTAMP:20260420T213823
CREATED:20130711T210059Z
LAST-MODIFIED:20130711T210205Z
UID:170-1396467000-1396474200@lesfrancophilesdetickhill.co.uk
SUMMARY:Brussels and Bruges
DESCRIPTION:Edwin and Diana Simpson have agreed to give us a talk about their recent visit to Brussels and Bruges
URL:https://lesfrancophilesdetickhill.co.uk/event/brussels-and-bruges/
LOCATION:Tickhill Parish Room\, Northgate\, Tickhill\, DN11 9HZ
END:VEVENT
END:VCALENDAR