BEGIN:VCALENDAR
VERSION:2.0
PRODID:-//Les Francophiles de Tickhill - ECPv5.16.4//NONSGML v1.0//EN
CALSCALE:GREGORIAN
METHOD:PUBLISH
X-WR-CALNAME:Les Francophiles de Tickhill
X-ORIGINAL-URL:https://lesfrancophilesdetickhill.co.uk
X-WR-CALDESC:Events for Les Francophiles de Tickhill
BEGIN:VTIMEZONE
TZID:Europe/London
BEGIN:DAYLIGHT
TZOFFSETFROM:+0000
TZOFFSETTO:+0100
TZNAME:BST
DTSTART:20160327T010000
END:DAYLIGHT
BEGIN:STANDARD
TZOFFSETFROM:+0100
TZOFFSETTO:+0000
TZNAME:GMT
DTSTART:20161030T010000
END:STANDARD
END:VTIMEZONE
BEGIN:VEVENT
DTSTART;TZID=Europe/London:20160706T193000
DTEND;TZID=Europe/London:20160706T213000
DTSTAMP:20260420T181048
CREATED:20151206T164337Z
LAST-MODIFIED:20151206T164337Z
UID:233-1467833400-1467840600@lesfrancophilesdetickhill.co.uk
SUMMARY:Fête de la Bastille
DESCRIPTION:Our celebration of France’s National Day and the end of our 2015/16 programme   This will be followed by food and wine.
URL:https://lesfrancophilesdetickhill.co.uk/event/fete-de-la-bastille-3/
LOCATION:Tickhill Parish Room\, Northgate\, Tickhill\, DN11 9HZ
END:VEVENT
END:VCALENDAR