BEGIN:VCALENDAR
VERSION:2.0
PRODID:-//Les Francophiles de Tickhill - ECPv5.16.4//NONSGML v1.0//EN
CALSCALE:GREGORIAN
METHOD:PUBLISH
X-WR-CALNAME:Les Francophiles de Tickhill
X-ORIGINAL-URL:https://lesfrancophilesdetickhill.co.uk
X-WR-CALDESC:Events for Les Francophiles de Tickhill
BEGIN:VTIMEZONE
TZID:Europe/London
BEGIN:DAYLIGHT
TZOFFSETFROM:+0000
TZOFFSETTO:+0100
TZNAME:BST
DTSTART:20130331T010000
END:DAYLIGHT
BEGIN:STANDARD
TZOFFSETFROM:+0100
TZOFFSETTO:+0000
TZNAME:GMT
DTSTART:20131027T010000
END:STANDARD
END:VTIMEZONE
BEGIN:VEVENT
DTSTART;TZID=Europe/London:20130703T193000
DTEND;TZID=Europe/London:20130703T213000
DTSTAMP:20260421T012811
CREATED:20130121T202412Z
LAST-MODIFIED:20130602T162407Z
UID:86-1372879800-1372887000@lesfrancophilesdetickhill.co.uk
SUMMARY:Fête de la Bastille
DESCRIPTION:A special event to end our 10th Anniversary year and an early Fête de la Bastille celebration.  This year we are pleased to welcome Lucy Warnock who is to speak to us about her experience of working in France.  This will be followed by food and wine.
URL:https://lesfrancophilesdetickhill.co.uk/event/fete-de-la-bastille/
LOCATION:Tickhill Parish Room\, Northgate\, Tickhill\, DN11 9HZ
END:VEVENT
END:VCALENDAR