BEGIN:VCALENDAR
VERSION:2.0
PRODID:-//Les Francophiles de Tickhill - ECPv5.16.4//NONSGML v1.0//EN
CALSCALE:GREGORIAN
METHOD:PUBLISH
X-WR-CALNAME:Les Francophiles de Tickhill
X-ORIGINAL-URL:https://lesfrancophilesdetickhill.co.uk
X-WR-CALDESC:Events for Les Francophiles de Tickhill
BEGIN:VTIMEZONE
TZID:Europe/London
BEGIN:DAYLIGHT
TZOFFSETFROM:+0000
TZOFFSETTO:+0100
TZNAME:BST
DTSTART:20140330T010000
END:DAYLIGHT
BEGIN:STANDARD
TZOFFSETFROM:+0100
TZOFFSETTO:+0000
TZNAME:GMT
DTSTART:20141026T010000
END:STANDARD
END:VTIMEZONE
BEGIN:VEVENT
DTSTART;TZID=Europe/London:20140108T193000
DTEND;TZID=Europe/London:20140108T213000
DTSTAMP:20260420T233544
CREATED:20130710T203336Z
LAST-MODIFIED:20130710T203336Z
UID:159-1389209400-1389216600@lesfrancophilesdetickhill.co.uk
SUMMARY:Film “Le Chateau de Ma Mêre”
DESCRIPTION:Film “Le Chateau de Ma Mêre”  Please note the date change to the second Wednesday this month
URL:https://lesfrancophilesdetickhill.co.uk/event/film-le-chateau-de-ma-mere-note-date/
LOCATION:Tickhill Parish Room\, Northgate\, Tickhill\, DN11 9HZ
END:VEVENT
END:VCALENDAR