BEGIN:VCALENDAR
VERSION:2.0
PRODID:-//Les Francophiles de Tickhill - ECPv5.16.4//NONSGML v1.0//EN
CALSCALE:GREGORIAN
METHOD:PUBLISH
X-WR-CALNAME:Les Francophiles de Tickhill
X-ORIGINAL-URL:https://lesfrancophilesdetickhill.co.uk
X-WR-CALDESC:Events for Les Francophiles de Tickhill
BEGIN:VTIMEZONE
TZID:Europe/London
BEGIN:DAYLIGHT
TZOFFSETFROM:+0000
TZOFFSETTO:+0100
TZNAME:BST
DTSTART:20160327T010000
END:DAYLIGHT
BEGIN:STANDARD
TZOFFSETFROM:+0100
TZOFFSETTO:+0000
TZNAME:GMT
DTSTART:20161030T010000
END:STANDARD
END:VTIMEZONE
BEGIN:VEVENT
DTSTART;TZID=Europe/London:20160106T193000
DTEND;TZID=Europe/London:20160106T213000
DTSTAMP:20260420T181932
CREATED:20151201T134427Z
LAST-MODIFIED:20151206T162041Z
UID:225-1452108600-1452115800@lesfrancophilesdetickhill.co.uk
SUMMARY:Film night
DESCRIPTION:A film in French\, with English subtitles\, to ease us into 2016 \nLes Intouchables\, a film in flashback where Driss\, a young black man fresh out of prison gets a job as a carer to paralysed wealthy paralysed aristocrat\, Phillippe.  Everything about the two men divides them\, background\, culture and language. Yet\, their respective handicaps bring them close binding them in a long lasting and unselfishly beneficial friendship.  There is no room in this story for pity or compassion\, laughter is the keynote. \nLes Intouchables  is an excellent antidote to post Christmas gloom.
URL:https://lesfrancophilesdetickhill.co.uk/event/film-night-2/
LOCATION:Tickhill Parish Room\, Northgate\, Tickhill\, DN11 9HZ
END:VEVENT
END:VCALENDAR