BEGIN:VCALENDAR
VERSION:2.0
PRODID:-//Les Francophiles de Tickhill - ECPv5.16.4//NONSGML v1.0//EN
CALSCALE:GREGORIAN
METHOD:PUBLISH
X-WR-CALNAME:Les Francophiles de Tickhill
X-ORIGINAL-URL:https://lesfrancophilesdetickhill.co.uk
X-WR-CALDESC:Events for Les Francophiles de Tickhill
BEGIN:VTIMEZONE
TZID:Europe/London
BEGIN:DAYLIGHT
TZOFFSETFROM:+0000
TZOFFSETTO:+0100
TZNAME:BST
DTSTART:20130331T010000
END:DAYLIGHT
BEGIN:STANDARD
TZOFFSETFROM:+0100
TZOFFSETTO:+0000
TZNAME:GMT
DTSTART:20131027T010000
END:STANDARD
END:VTIMEZONE
BEGIN:VEVENT
DTSTART;TZID=Europe/London:20130102T193000
DTEND;TZID=Europe/London:20130102T220000
DTSTAMP:20260421T025528
CREATED:20130101T214643Z
LAST-MODIFIED:20130120T150047Z
UID:54-1357155000-1357164000@lesfrancophilesdetickhill.co.uk
SUMMARY:Film night - La Gloire De Mon Père
DESCRIPTION:A viewing of Yves Robert’s film about a young boy’s summer holiday in Provence. \nRead more about La Gloire De Mon Père at IMDb.
URL:https://lesfrancophilesdetickhill.co.uk/event/film-night-la-gloire-de-mon-pere/
LOCATION:Tickhill Parish Room\, Northgate\, Tickhill\, DN11 9HZ\, United Kingdom
END:VEVENT
END:VCALENDAR