BEGIN:VCALENDAR
VERSION:2.0
PRODID:-//Les Francophiles de Tickhill - ECPv5.16.4//NONSGML v1.0//EN
CALSCALE:GREGORIAN
METHOD:PUBLISH
X-WR-CALNAME:Les Francophiles de Tickhill
X-ORIGINAL-URL:https://lesfrancophilesdetickhill.co.uk
X-WR-CALDESC:Events for Les Francophiles de Tickhill
BEGIN:VTIMEZONE
TZID:Europe/London
BEGIN:DAYLIGHT
TZOFFSETFROM:+0000
TZOFFSETTO:+0100
TZNAME:BST
DTSTART:20150329T010000
END:DAYLIGHT
BEGIN:STANDARD
TZOFFSETFROM:+0100
TZOFFSETTO:+0000
TZNAME:GMT
DTSTART:20151025T010000
END:STANDARD
END:VTIMEZONE
BEGIN:VEVENT
DTSTART;TZID=Europe/London:20150107T193000
DTEND;TZID=Europe/London:20150107T213000
DTSTAMP:20260420T214230
CREATED:20140916T114302Z
LAST-MODIFIED:20140918T052245Z
UID:185-1420659000-1420666200@lesfrancophilesdetickhill.co.uk
SUMMARY:Film night
DESCRIPTION:“La fille du puisatier” a romantic comedy drama
URL:https://lesfrancophilesdetickhill.co.uk/event/film-night/
LOCATION:Tickhill Parish Room\, Northgate\,\, Tickhill\, DN11 9HZ
END:VEVENT
END:VCALENDAR