BEGIN:VCALENDAR
VERSION:2.0
PRODID:-//Les Francophiles de Tickhill - ECPv5.16.4//NONSGML v1.0//EN
CALSCALE:GREGORIAN
METHOD:PUBLISH
X-WR-CALNAME:Les Francophiles de Tickhill
X-ORIGINAL-URL:https://lesfrancophilesdetickhill.co.uk
X-WR-CALDESC:Events for Les Francophiles de Tickhill
BEGIN:VTIMEZONE
TZID:Europe/London
BEGIN:DAYLIGHT
TZOFFSETFROM:+0000
TZOFFSETTO:+0100
TZNAME:BST
DTSTART:20160327T010000
END:DAYLIGHT
BEGIN:STANDARD
TZOFFSETFROM:+0100
TZOFFSETTO:+0000
TZNAME:GMT
DTSTART:20161030T010000
END:STANDARD
END:VTIMEZONE
BEGIN:VEVENT
DTSTART;TZID=Europe/London:20160203T193000
DTEND;TZID=Europe/London:20160203T213000
DTSTAMP:20260420T182403
CREATED:20151201T140506Z
LAST-MODIFIED:20151206T165450Z
UID:226-1454527800-1454535000@lesfrancophilesdetickhill.co.uk
SUMMARY:Food Tasting
DESCRIPTION:Meg from Montideli returns to give us re-run of her successful demonstration and tasting of French cuisine with new recipes to excite the taste buds. \nPre-booking and payment of a £5 cost is essential as numbers are limited.
URL:https://lesfrancophilesdetickhill.co.uk/event/food-tasting-2/
LOCATION:Tickhill Parish Room\, Northgate\, Tickhill\, DN11 9HZ
END:VEVENT
END:VCALENDAR