BEGIN:VCALENDAR
VERSION:2.0
PRODID:-//Les Francophiles de Tickhill - ECPv5.16.4//NONSGML v1.0//EN
CALSCALE:GREGORIAN
METHOD:PUBLISH
X-WR-CALNAME:Les Francophiles de Tickhill
X-ORIGINAL-URL:https://lesfrancophilesdetickhill.co.uk
X-WR-CALDESC:Events for Les Francophiles de Tickhill
BEGIN:VTIMEZONE
TZID:Europe/London
BEGIN:DAYLIGHT
TZOFFSETFROM:+0000
TZOFFSETTO:+0100
TZNAME:BST
DTSTART:20150329T010000
END:DAYLIGHT
BEGIN:STANDARD
TZOFFSETFROM:+0100
TZOFFSETTO:+0000
TZNAME:GMT
DTSTART:20151025T010000
END:STANDARD
END:VTIMEZONE
BEGIN:VEVENT
DTSTART;TZID=Europe/London:20151007T193000
DTEND;TZID=Europe/London:20151007T213000
DTSTAMP:20260420T195805
CREATED:20150816T173649Z
LAST-MODIFIED:20150816T175146Z
UID:219-1444246200-1444253400@lesfrancophilesdetickhill.co.uk
SUMMARY:Gestures and Expressions in French
DESCRIPTION:A talk by Thierry Viennois
URL:https://lesfrancophilesdetickhill.co.uk/event/gestures-and-expressions-in-french/
END:VEVENT
END:VCALENDAR