BEGIN:VCALENDAR
VERSION:2.0
PRODID:-//Les Francophiles de Tickhill - ECPv5.16.4//NONSGML v1.0//EN
CALSCALE:GREGORIAN
METHOD:PUBLISH
X-WR-CALNAME:Les Francophiles de Tickhill
X-ORIGINAL-URL:https://lesfrancophilesdetickhill.co.uk
X-WR-CALDESC:Events for Les Francophiles de Tickhill
BEGIN:VTIMEZONE
TZID:Europe/London
BEGIN:DAYLIGHT
TZOFFSETFROM:+0000
TZOFFSETTO:+0100
TZNAME:BST
DTSTART:20140330T010000
END:DAYLIGHT
BEGIN:STANDARD
TZOFFSETFROM:+0100
TZOFFSETTO:+0000
TZNAME:GMT
DTSTART:20141026T010000
END:STANDARD
END:VTIMEZONE
BEGIN:VEVENT
DTSTART;TZID=Europe/London:20141105T193000
DTEND;TZID=Europe/London:20141105T213000
DTSTAMP:20260420T215715
CREATED:20140916T113036Z
LAST-MODIFIED:20140916T113036Z
UID:178-1415215800-1415223000@lesfrancophilesdetickhill.co.uk
SUMMARY:Mature Skiing in France
DESCRIPTION:Skiing with “more mature friends” in France\, a seasonal past-time.  The talk is given by Audrey Harwood
URL:https://lesfrancophilesdetickhill.co.uk/event/mature-skiing-in-france/
LOCATION:Tickhill Parish Room\, Northgate\,\, Tickhill\, DN11 9HZ
END:VEVENT
END:VCALENDAR