BEGIN:VCALENDAR
VERSION:2.0
PRODID:-//Les Francophiles de Tickhill - ECPv5.16.4//NONSGML v1.0//EN
CALSCALE:GREGORIAN
METHOD:PUBLISH
X-WR-CALNAME:Les Francophiles de Tickhill
X-ORIGINAL-URL:https://lesfrancophilesdetickhill.co.uk
X-WR-CALDESC:Events for Les Francophiles de Tickhill
BEGIN:VTIMEZONE
TZID:Europe/London
BEGIN:DAYLIGHT
TZOFFSETFROM:+0000
TZOFFSETTO:+0100
TZNAME:BST
DTSTART:20130331T010000
END:DAYLIGHT
BEGIN:STANDARD
TZOFFSETFROM:+0100
TZOFFSETTO:+0000
TZNAME:GMT
DTSTART:20131027T010000
END:STANDARD
END:VTIMEZONE
BEGIN:VEVENT
DTSTART;TZID=Europe/London:20130501T193000
DTEND;TZID=Europe/London:20130501T213000
DTSTAMP:20260421T012337
CREATED:20130129T002258Z
LAST-MODIFIED:20130414T173807Z
UID:117-1367436600-1367443800@lesfrancophilesdetickhill.co.uk
SUMMARY:Ma France
DESCRIPTION:Come and enjoy the fragrance of France by listening to an illustrated talk by Barry Keeton on places he has visited over the last ten years.  You will see a varied selection of pictures taken at a wide range of spots in France\, from archaeological sites to villages deep in the French countryside and charming places on or near the Côte d’Azur. \nIt might give you some ideas for your next holiday to France.
URL:https://lesfrancophilesdetickhill.co.uk/event/my-france/
LOCATION:Parish Room
END:VEVENT
END:VCALENDAR