BEGIN:VCALENDAR
VERSION:2.0
PRODID:-//Les Francophiles de Tickhill - ECPv5.16.4//NONSGML v1.0//EN
CALSCALE:GREGORIAN
METHOD:PUBLISH
X-WR-CALNAME:Les Francophiles de Tickhill
X-ORIGINAL-URL:https://lesfrancophilesdetickhill.co.uk
X-WR-CALDESC:Events for Les Francophiles de Tickhill
BEGIN:VTIMEZONE
TZID:Europe/London
BEGIN:DAYLIGHT
TZOFFSETFROM:+0000
TZOFFSETTO:+0100
TZNAME:BST
DTSTART:20260329T010000
END:DAYLIGHT
BEGIN:STANDARD
TZOFFSETFROM:+0100
TZOFFSETTO:+0000
TZNAME:GMT
DTSTART:20261025T010000
END:STANDARD
END:VTIMEZONE
BEGIN:VEVENT
DTSTART;TZID=Europe/London:20260304T193000
DTEND;TZID=Europe/London:20260304T213000
DTSTAMP:20260419T162845
CREATED:20250916T103627Z
LAST-MODIFIED:20250916T103627Z
UID:482-1772652600-1772659800@lesfrancophilesdetickhill.co.uk
SUMMARY:Teaching Primary French
DESCRIPTION:Brenda Lowe\, returns to give us further insights into teaching languages at Primary Level
URL:https://lesfrancophilesdetickhill.co.uk/event/teaching-primary-french/
LOCATION:Tickhill Parish Room\, Northgate\, Tickhill\, DN11 9HZ
END:VEVENT
END:VCALENDAR