BEGIN:VCALENDAR
VERSION:2.0
PRODID:-//Les Francophiles de Tickhill - ECPv5.16.4//NONSGML v1.0//EN
CALSCALE:GREGORIAN
METHOD:PUBLISH
X-WR-CALNAME:Les Francophiles de Tickhill
X-ORIGINAL-URL:https://lesfrancophilesdetickhill.co.uk
X-WR-CALDESC:Events for Les Francophiles de Tickhill
BEGIN:VTIMEZONE
TZID:Europe/London
BEGIN:DAYLIGHT
TZOFFSETFROM:+0000
TZOFFSETTO:+0100
TZNAME:BST
DTSTART:20130331T010000
END:DAYLIGHT
BEGIN:STANDARD
TZOFFSETFROM:+0100
TZOFFSETTO:+0000
TZNAME:GMT
DTSTART:20131027T010000
END:STANDARD
END:VTIMEZONE
BEGIN:VEVENT
DTSTART;TZID=Europe/London:20130403T193000
DTEND;TZID=Europe/London:20130403T213000
DTSTAMP:20260421T012944
CREATED:20130121T201305Z
LAST-MODIFIED:20130224T091100Z
UID:77-1365017400-1365024600@lesfrancophilesdetickhill.co.uk
SUMMARY:Toulouse-Lautrec
DESCRIPTION:Rachel Holland is to give us a talk about the life of Henri de Toulouse-Lautrec\, his illness and disability\, his fascination for the ‘Moulin Rouge’ and his art and posters.
URL:https://lesfrancophilesdetickhill.co.uk/event/toulouse-lautrec/
LOCATION:Tickhill Parish Room\, Northgate\, Tickhill\, DN11 9HZ
END:VEVENT
END:VCALENDAR